BEGIN:VCALENDAR
VERSION:1.0
PRODID:Open2CKalenderExportV11
BEGIN:VEVENT
DTSTAMP:20221222T150730Z
DTSTART:20230517T000000Z
DTEND:20230517T000000Z
CATEGORIES:Abfallentsorgung
SUMMARY:Leerung Hausmüllcontainer
DESCRIPTION:
LOCATION:
UID:dc1c0482092c280b33187378def174e0-a89349c025bc7e6b405e78eb7523b5ca
PRIORITY:3
END:VEVENT
END:VCALENDAR
