BEGIN:VCALENDAR
VERSION:1.0
PRODID:Open2CKalenderExportV11
BEGIN:VEVENT
DTSTAMP:20241219T102757Z
DTSTART:20250521T000000Z
DTEND:20250521T000000Z
CATEGORIES:Abfallentsorgung
SUMMARY:Entleerung Hausmüllcontainer
DESCRIPTION:
LOCATION:
UID:e29088a5a60edad4bca9c2de7540200a-708fdf1580d7bd061eb7685219d0195c
PRIORITY:3
END:VEVENT
END:VCALENDAR
