BEGIN:VCALENDAR
VERSION:1.0
PRODID:Open2CKalenderExportV11
BEGIN:VEVENT
DTSTAMP:20241219T123326Z
DTSTART:20251029T000000Z
DTEND:20251029T000000Z
CATEGORIES:Abfallentsorgung
SUMMARY:Entleerung Hausmüllcontainer
DESCRIPTION:
LOCATION:
UID:be6c2a322a31f524b298e8b7fb892f18-708fdf1580d7bd061eb7685219d0195c
PRIORITY:3
END:VEVENT
END:VCALENDAR
