BEGIN:VCALENDAR
VERSION:1.0
PRODID:Open2CKalenderExportV11
BEGIN:VEVENT
DTSTAMP:20241219T131645Z
DTSTART:20250207T000000Z
DTEND:20250207T000000Z
CATEGORIES:Feste und Feiern
SUMMARY:Frauenfasching
DESCRIPTION:
LOCATION:Pfarrheim Höslwang
UID:fd871ca5f0c96e684642453e512c5a9e-008151556b442b2e17d3263072d1c4ef
PRIORITY:3
END:VEVENT
END:VCALENDAR
