BEGIN:VCALENDAR
VERSION:1.0
PRODID:Open2CKalenderExportV11
BEGIN:VEVENT
DTSTAMP:20250325T105102Z
DTSTART:20250503T093000Z
DTEND:20250503T113000Z
CATEGORIES:Abfallentsorgung
SUMMARY:Wertstoffhof 27
DESCRIPTION:
LOCATION:
UID:6f7bfe000624d99dcb81840fb283bd3e-cdda33f19a442480caaa27d7892b168c
PRIORITY:3
END:VEVENT
END:VCALENDAR
