BEGIN:VCALENDAR
VERSION:1.0
PRODID:Open2CKalenderExportV11
BEGIN:VEVENT
DTSTAMP:20250325T110830Z
DTSTART:20250516T140000Z
DTEND:20250516T160000Z
CATEGORIES:Abfallentsorgung
SUMMARY:Wertstoffhof 31
DESCRIPTION:
LOCATION:
UID:a2173378e269e397227eb4e304fa109b-a030fe1bbad0724ff5148963e085ce2a
PRIORITY:3
END:VEVENT
END:VCALENDAR
