BEGIN:VCALENDAR
VERSION:1.0
PRODID:Open2CKalenderExportV11
BEGIN:VEVENT
DTSTAMP:20180406T090033Z
DTSTART:20180410T193000Z
DTEND:20180410T193000Z
CATEGORIES:Sitzungen
SUMMARY:Gemeinderat Höslwang - Gemeinderatssitzung
DESCRIPTION:
LOCATION:Rathaus Höslwang
 Kirchplatz 12
 Sitzungssaal
UID:bea86a73b03be4f559ea6d70683d18b9-ad0e643dc39e477ed767ea639ada8b13
PRIORITY:3
END:VEVENT
END:VCALENDAR
