BEGIN:VCALENDAR
VERSION:1.0
PRODID:Open2CKalenderExportV11
BEGIN:VEVENT
DTSTAMP:20180704T084054Z
DTSTART:20180717T000000Z
DTEND:20180717T000000Z
CATEGORIES:Abfallentsorgung
SUMMARY:schwarze Tonne (Restmüll)
DESCRIPTION:
LOCATION:
UID:0a2b3b952d3a13988b6ec715d3b8e17f-9da09dcc0d01c9d90a08c3b000a1ffc5
PRIORITY:3
END:VEVENT
BEGIN:VEVENT
DTSTAMP:20180704T083953Z
DTSTART:20180717T000000Z
DTEND:20180717T000000Z
CATEGORIES:Abfallentsorgung
SUMMARY:blaue Tonne (Altpapier)
DESCRIPTION:
LOCATION:
UID:0a2b3b952d3a13988b6ec715d3b8e17f-caecb5eb65441b17e5941bce71067d54
PRIORITY:3
END:VEVENT
BEGIN:VEVENT
DTSTAMP:20180704T084046Z
DTSTART:20180731T000000Z
DTEND:20180731T000000Z
CATEGORIES:Abfallentsorgung
SUMMARY:schwarze Tonne (Restmüll)
DESCRIPTION:
LOCATION:
UID:d3e77a35d51ff8e32f025c6d4a90eb41-9da09dcc0d01c9d90a08c3b000a1ffc5
PRIORITY:3
END:VEVENT
END:VCALENDAR
