BEGIN:VCALENDAR
VERSION:2.0
PRODID:< http://www.open2c.de/ >
METHOD:PUBLISH
X-PUBLISHED-TTL:PT12H
BEGIN:VEVENT
CREATED:20221222T150656Z
LAST-MODIFIED:20221222T150730Z
DTSTAMP:20260422T103045Z
DTSTART;VALUE=DATE:20230517
CATEGORIES:Abfallentsorgung
SUMMARY:Leerung Hausmüllcontainer
UID:3509c821a465b6443c41d31ce91c6771@9d807329dae12ea800fe66d983ec325f
END:VEVENT
END:VCALENDAR