BEGIN:VCALENDAR
VERSION:2.0
PRODID:< http://www.open2c.de/ >
METHOD:PUBLISH
X-PUBLISHED-TTL:PT12H
BEGIN:VEVENT
CREATED:20241219T102718Z
LAST-MODIFIED:20241219T102757Z
DTSTAMP:20260422T090222Z
DTSTART;VALUE=DATE:20250521
CATEGORIES:Abfallentsorgung
SUMMARY:Entleerung Hausmüllcontainer
UID:cb31ab0d7456e9cbc97bb9e82dd49897@9d807329dae12ea800fe66d983ec325f
END:VEVENT
END:VCALENDAR