BEGIN:VCALENDAR
VERSION:2.0
PRODID:< http://www.open2c.de/ >
METHOD:PUBLISH
X-PUBLISHED-TTL:PT12H
BEGIN:VEVENT
CREATED:20241219T123249Z
LAST-MODIFIED:20241219T123326Z
DTSTAMP:20260422T103230Z
DTSTART;VALUE=DATE:20251029
CATEGORIES:Abfallentsorgung
SUMMARY:Entleerung Hausmüllcontainer
UID:e6144e4ee54d4acf929574db66448e87@9d807329dae12ea800fe66d983ec325f
END:VEVENT
END:VCALENDAR