BEGIN:VCALENDAR
VERSION:2.0
PRODID:< http://www.open2c.de/ >
METHOD:PUBLISH
X-PUBLISHED-TTL:PT12H
BEGIN:VEVENT
CREATED:20241219T131558Z
LAST-MODIFIED:20241219T131645Z
DTSTAMP:20260422T085814Z
DTSTART;VALUE=DATE:20250207
CATEGORIES:Feste und Feiern
SUMMARY:Frauenfasching
LOCATION:Pfarrheim Höslwang
UID:d7bc72ff96170bbd6090f222033af57a@9d807329dae12ea800fe66d983ec325f
END:VEVENT
END:VCALENDAR