BEGIN:VCALENDAR
VERSION:2.0
PRODID:< http://www.open2c.de/ >
METHOD:PUBLISH
X-PUBLISHED-TTL:PT12H
BEGIN:VEVENT
CREATED:20180319T232639Z
LAST-MODIFIED:20180406T090033Z
DTSTAMP:20260423T230938Z
DTSTART;VALUE=DATE:20180410
CATEGORIES:Sitzungen
SUMMARY:Gemeinderat Höslwang - Gemeinderatssitzung
LOCATION:Rathaus Höslwang\nKirchplatz 12\nSitzungssaal
UID:2640dccb4b66bf7db0b569b304249ab8@9d807329dae12ea800fe66d983ec325f
END:VEVENT
END:VCALENDAR