BEGIN:VCALENDAR
VERSION:2.0
PRODID:< http://www.open2c.de/ >
METHOD:PUBLISH
X-PUBLISHED-TTL:PT12H
BEGIN:VEVENT
CREATED:20180704T083712Z
LAST-MODIFIED:20180704T084054Z
DTSTAMP:20260420T105952Z
DTSTART;VALUE=DATE:20180717
CATEGORIES:Abfallentsorgung
SUMMARY:schwarze Tonne (Restmüll)
UID:198eeacd3a529d9ffa7ca0c6718a2184@9d807329dae12ea800fe66d983ec325f
END:VEVENT
BEGIN:VEVENT
CREATED:20180704T083935Z
LAST-MODIFIED:20180704T083953Z
DTSTAMP:20260420T105952Z
DTSTART;VALUE=DATE:20180717
CATEGORIES:Abfallentsorgung
SUMMARY:blaue Tonne (Altpapier)
UID:63031f06efb5d5552dd0dba564079941@9d807329dae12ea800fe66d983ec325f
END:VEVENT
BEGIN:VEVENT
CREATED:20180704T083849Z
LAST-MODIFIED:20180704T084046Z
DTSTAMP:20260420T105952Z
DTSTART;VALUE=DATE:20180731
CATEGORIES:Abfallentsorgung
SUMMARY:schwarze Tonne (Restmüll)
UID:8620b2ab854f81574b3278f0c09dfec2@9d807329dae12ea800fe66d983ec325f
END:VEVENT
END:VCALENDAR